BEGIN:VCALENDAR
VERSION:2.0
PRODID:-//inthemaking.org.uk - ECPv6.15.18//NONSGML v1.0//EN
CALSCALE:GREGORIAN
METHOD:PUBLISH
X-WR-CALNAME:inthemaking.org.uk
X-ORIGINAL-URL:https://inthemaking.org.uk
X-WR-CALDESC:Events for inthemaking.org.uk
REFRESH-INTERVAL;VALUE=DURATION:PT1H
X-Robots-Tag:noindex
X-PUBLISHED-TTL:PT1H
BEGIN:VTIMEZONE
TZID:Europe/London
BEGIN:DAYLIGHT
TZOFFSETFROM:+0000
TZOFFSETTO:+0100
TZNAME:BST
DTSTART:20250330T010000
END:DAYLIGHT
BEGIN:STANDARD
TZOFFSETFROM:+0100
TZOFFSETTO:+0000
TZNAME:GMT
DTSTART:20251026T010000
END:STANDARD
BEGIN:DAYLIGHT
TZOFFSETFROM:+0000
TZOFFSETTO:+0100
TZNAME:BST
DTSTART:20260329T010000
END:DAYLIGHT
BEGIN:STANDARD
TZOFFSETFROM:+0100
TZOFFSETTO:+0000
TZNAME:GMT
DTSTART:20261025T010000
END:STANDARD
BEGIN:DAYLIGHT
TZOFFSETFROM:+0000
TZOFFSETTO:+0100
TZNAME:BST
DTSTART:20270328T010000
END:DAYLIGHT
BEGIN:STANDARD
TZOFFSETFROM:+0100
TZOFFSETTO:+0000
TZNAME:GMT
DTSTART:20271031T010000
END:STANDARD
END:VTIMEZONE
BEGIN:VEVENT
DTSTART;TZID=Europe/London:20260424T190000
DTEND;TZID=Europe/London:20260424T203000
DTSTAMP:20260424T022331
CREATED:20260315T205445Z
LAST-MODIFIED:20260404T100250Z
UID:3324-1777057200-1777062600@inthemaking.org.uk
SUMMARY:Embossed Foil Artwork
DESCRIPTION:Discover the art of metal embossing and take home your own framed artwork\, in gold or silver! No experience necessary\, and we’ll provide all the materials and tools (as well as hot drinks and plenty of sweets!) and guide you through the process – just bring yourself! \n  \nBy signing up you agree to our terms and conditions (including our cancellation policy). \n  \nPlease note that unfortunately the studio isn’t step-free accessible – we’re so sorry for any inconvenience. \n 
URL:https://inthemaking.org.uk/event/gold-silver-embossed-artwork/
LOCATION:In The Making Studio\, 14 Drakes Circus\, Grow Studios\, Studio 12\, Plymouth\, Devon\, PL4 8AQ\, United Kingdom
ATTACH;FMTTYPE=image/png:https://inthemaking.org.uk/wp-content/uploads/2026/03/00-newevents-01.png
END:VEVENT
END:VCALENDAR