BEGIN:VCALENDAR
VERSION:2.0
PRODID:-//inthemaking.org.uk - ECPv6.15.18//NONSGML v1.0//EN
CALSCALE:GREGORIAN
METHOD:PUBLISH
X-WR-CALNAME:inthemaking.org.uk
X-ORIGINAL-URL:https://inthemaking.org.uk
X-WR-CALDESC:Events for inthemaking.org.uk
REFRESH-INTERVAL;VALUE=DURATION:PT1H
X-Robots-Tag:noindex
X-PUBLISHED-TTL:PT1H
BEGIN:VTIMEZONE
TZID:Europe/London
BEGIN:DAYLIGHT
TZOFFSETFROM:+0000
TZOFFSETTO:+0100
TZNAME:BST
DTSTART:20250330T010000
END:DAYLIGHT
BEGIN:STANDARD
TZOFFSETFROM:+0100
TZOFFSETTO:+0000
TZNAME:GMT
DTSTART:20251026T010000
END:STANDARD
BEGIN:DAYLIGHT
TZOFFSETFROM:+0000
TZOFFSETTO:+0100
TZNAME:BST
DTSTART:20260329T010000
END:DAYLIGHT
BEGIN:STANDARD
TZOFFSETFROM:+0100
TZOFFSETTO:+0000
TZNAME:GMT
DTSTART:20261025T010000
END:STANDARD
BEGIN:DAYLIGHT
TZOFFSETFROM:+0000
TZOFFSETTO:+0100
TZNAME:BST
DTSTART:20270328T010000
END:DAYLIGHT
BEGIN:STANDARD
TZOFFSETFROM:+0100
TZOFFSETTO:+0000
TZNAME:GMT
DTSTART:20271031T010000
END:STANDARD
END:VTIMEZONE
BEGIN:VEVENT
DTSTART;TZID=Europe/London:20260507T190000
DTEND;TZID=Europe/London:20260507T203000
DTSTAMP:20260421T171038
CREATED:20260406T114538Z
LAST-MODIFIED:20260406T114538Z
UID:3457-1778180400-1778185800@inthemaking.org.uk
SUMMARY:Mini Plant-Pot Painting (plant included!)
DESCRIPTION:Need a midweek break? Come paint a mini plant-pot with us! We’ll guide you through the process and provide all materials – as well as lots of teas\, coffees and sweets! Simply bring yourselves and join us for a cosy evening\, and take home your tiny new plant in its personalised pot! \n  \nBy signing up you agree to our terms and conditions (including our cancellation policy). \n  \nPlease note that unfortunately the studio isn’t step-free accessible – we’re so sorry for any inconvenience.
URL:https://inthemaking.org.uk/event/mini-plant-pot-painting-plant-included-2/
LOCATION:In The Making Studio\, 14 Drakes Circus\, Grow Studios\, Studio 12\, Plymouth\, Devon\, PL4 8AQ\, United Kingdom
ATTACH;FMTTYPE=image/png:https://inthemaking.org.uk/wp-content/uploads/2026/03/plantpot.png
END:VEVENT
END:VCALENDAR