BEGIN:VCALENDAR
VERSION:2.0
PRODID:-//inthemaking.org.uk - ECPv6.15.18//NONSGML v1.0//EN
CALSCALE:GREGORIAN
METHOD:PUBLISH
X-ORIGINAL-URL:https://inthemaking.org.uk
X-WR-CALDESC:Events for inthemaking.org.uk
REFRESH-INTERVAL;VALUE=DURATION:PT1H
X-Robots-Tag:noindex
X-PUBLISHED-TTL:PT1H
BEGIN:VTIMEZONE
TZID:Europe/London
BEGIN:DAYLIGHT
TZOFFSETFROM:+0000
TZOFFSETTO:+0100
TZNAME:BST
DTSTART:20250330T010000
END:DAYLIGHT
BEGIN:STANDARD
TZOFFSETFROM:+0100
TZOFFSETTO:+0000
TZNAME:GMT
DTSTART:20251026T010000
END:STANDARD
BEGIN:DAYLIGHT
TZOFFSETFROM:+0000
TZOFFSETTO:+0100
TZNAME:BST
DTSTART:20260329T010000
END:DAYLIGHT
BEGIN:STANDARD
TZOFFSETFROM:+0100
TZOFFSETTO:+0000
TZNAME:GMT
DTSTART:20261025T010000
END:STANDARD
BEGIN:DAYLIGHT
TZOFFSETFROM:+0000
TZOFFSETTO:+0100
TZNAME:BST
DTSTART:20270328T010000
END:DAYLIGHT
BEGIN:STANDARD
TZOFFSETFROM:+0100
TZOFFSETTO:+0000
TZNAME:GMT
DTSTART:20271031T010000
END:STANDARD
END:VTIMEZONE
BEGIN:VEVENT
DTSTART;TZID=Europe/London:20260514T190000
DTEND;TZID=Europe/London:20260514T210000
DTSTAMP:20260421T171441
CREATED:20260319T212459Z
LAST-MODIFIED:20260415T140341Z
UID:3305-1778785200-1778792400@inthemaking.org.uk
SUMMARY:Stitch a Selfie
DESCRIPTION:Turn your favourite photo into a stitched artwork!\nIn this relaxed\, beginner-friendly workshop\, you’ll learn simple embroidery techniques and leave with a piece that’s completely personal. \nStep 1 – Purchase a ticket and then upload your photo!\nPlease upload your chosen photo via this link when you purchase a ticket! The deadline for photos is Sun 10th May\, as this allows us maximum time to print it onto fabric and hoop it ready for the workshop! \n \nStep 2 – Join the workshop!\nBring yourself\, and we’ll teach you simple embroidery techniques and stitches\, from flowers to decorative borders. All materials are included\, and there are plenty of thread colours to make your piece truly your own. \nAll materials included\, and hot drinks and sweet treats provided throughout!\n \n  \n  \nBy signing up you agree to our terms and conditions (including our cancellation policy). \nPlease note that unfortunately the studio isn’t step-free accessible – we’re so sorry for any inconvenience.
URL:https://inthemaking.org.uk/event/stitch-a-selfie-2/
LOCATION:In The Making Studio\, 14 Drakes Circus\, Grow Studios\, Studio 12\, Plymouth\, Devon\, PL4 8AQ\, United Kingdom
ATTACH;FMTTYPE=image/png:https://inthemaking.org.uk/wp-content/uploads/2026/02/1-02.png
END:VEVENT
END:VCALENDAR