BEGIN:VCALENDAR
VERSION:2.0
PRODID:-//inthemaking.org.uk - ECPv6.15.18//NONSGML v1.0//EN
CALSCALE:GREGORIAN
METHOD:PUBLISH
X-WR-CALNAME:inthemaking.org.uk
X-ORIGINAL-URL:https://inthemaking.org.uk
X-WR-CALDESC:Events for inthemaking.org.uk
REFRESH-INTERVAL;VALUE=DURATION:PT1H
X-Robots-Tag:noindex
X-PUBLISHED-TTL:PT1H
BEGIN:VTIMEZONE
TZID:Europe/London
BEGIN:DAYLIGHT
TZOFFSETFROM:+0000
TZOFFSETTO:+0100
TZNAME:BST
DTSTART:20250330T010000
END:DAYLIGHT
BEGIN:STANDARD
TZOFFSETFROM:+0100
TZOFFSETTO:+0000
TZNAME:GMT
DTSTART:20251026T010000
END:STANDARD
BEGIN:DAYLIGHT
TZOFFSETFROM:+0000
TZOFFSETTO:+0100
TZNAME:BST
DTSTART:20260329T010000
END:DAYLIGHT
BEGIN:STANDARD
TZOFFSETFROM:+0100
TZOFFSETTO:+0000
TZNAME:GMT
DTSTART:20261025T010000
END:STANDARD
BEGIN:DAYLIGHT
TZOFFSETFROM:+0000
TZOFFSETTO:+0100
TZNAME:BST
DTSTART:20270328T010000
END:DAYLIGHT
BEGIN:STANDARD
TZOFFSETFROM:+0100
TZOFFSETTO:+0000
TZNAME:GMT
DTSTART:20271031T010000
END:STANDARD
END:VTIMEZONE
BEGIN:VEVENT
DTSTART;TZID=Europe/London:20260516T140000
DTEND;TZID=Europe/London:20260516T170000
DTSTAMP:20260421T202047
CREATED:20260406T115213Z
LAST-MODIFIED:20260416T114717Z
UID:3461-1778940000-1778950800@inthemaking.org.uk
SUMMARY:Polymer Clay Charm Necklaces
DESCRIPTION:Make\, bake\, and paint your own polymer clay charms\, then use our pliers and tools to turn them into necklaces or bracelets! Perfect for silver or gold – your choice. We’ll guide you through every step\, so no worries if you’ve never worked with clay or tools before. Everything you need is provided\, along with plenty of teas\, coffees\, and sweet treats. Just bring yourselves\, join us for an afternoon together\, and leave wearing your very own bespoke jewellery! \nBy signing up you agree to our terms and conditions (including our cancellation policy). \nPlease note that unfortunately the studio isn’t step-free accessible – we’re so sorry for any inconvenience.
URL:https://inthemaking.org.uk/event/polymer-clay-charm-necklaces-2/
LOCATION:In The Making Studio\, 14 Drakes Circus\, Grow Studios\, Studio 12\, Plymouth\, Devon\, PL4 8AQ\, United Kingdom
ATTACH;FMTTYPE=image/png:https://inthemaking.org.uk/wp-content/uploads/2026/01/Galentines-02.png
END:VEVENT
BEGIN:VEVENT
DTSTART;TZID=Europe/London:20260520T183000
DTEND;TZID=Europe/London:20260520T203000
DTSTAMP:20260421T202047
CREATED:20260416T122058Z
LAST-MODIFIED:20260416T122058Z
UID:3474-1779301800-1779309000@inthemaking.org.uk
SUMMARY:Polymer Clay Earrings
DESCRIPTION:Join us for a relaxed and creative evening of making\, baking and painting your own personalised pair of earrings! \nWe’ll start by rolling out clay and using our cutters to create your chosen shape. Once baked\, you’ll paint your own unique designs before finishing them with a glossy seal. Finally\, you’ll learn how to assemble your earrings using pliers\, with the option to add pearls and choose between silver or gold fittings. \nWe’ll guide you through every step\, so no experience with clay or tools is needed. All materials are provided\, along with plenty of tea\, coffee and sweet treats! \nJust bring yourselves\, enjoy a lovely afternoon together\, and leave wearing your own personalised jewellery! \nBy signing up\, you agree to our terms and conditions (including our cancellation policy). \nPlease note that the studio is not step-free accessible. We’re very sorry for any inconvenience this may cause.
URL:https://inthemaking.org.uk/event/polymer-clay-earrings/
LOCATION:In The Making Studio\, 14 Drakes Circus\, Grow Studios\, Studio 12\, Plymouth\, Devon\, PL4 8AQ\, United Kingdom
ATTACH;FMTTYPE=image/png:https://inthemaking.org.uk/wp-content/uploads/2026/04/earrings2.png
END:VEVENT
BEGIN:VEVENT
DTSTART;TZID=Europe/London:20260525T140000
DTEND;TZID=Europe/London:20260525T170000
DTSTAMP:20260421T202047
CREATED:20260418T101901Z
LAST-MODIFIED:20260418T101901Z
UID:3484-1779717600-1779728400@inthemaking.org.uk
SUMMARY:Bank Holiday: Applique Tote Bags
DESCRIPTION:Join us this bank holiday to design and make your own appliqué tote bag!We’ll guide you step-by-step through designing\, cutting\, and stitching your own personalised bag to take home. Choose from our selection of beautiful fabrics and simple letter and shape templates\, or bring along your own ideas to make something truly unique. \nNo experience necessary\, and we’ll have all the tools you need (as well as hot drinks and sweet treats!) \nBy signing up\, you agree to our terms and conditions (including our cancellation policy). \nPlease note that the studio is not step-free accessible. We’re very sorry for any inconvenience this may cause.
URL:https://inthemaking.org.uk/event/bank-holiday-applique-tote-bags/
LOCATION:In The Making Studio\, 14 Drakes Circus\, Grow Studios\, Studio 12\, Plymouth\, Devon\, PL4 8AQ\, United Kingdom
ATTACH;FMTTYPE=image/png:https://inthemaking.org.uk/wp-content/uploads/2026/04/Untitled-2.png
END:VEVENT
END:VCALENDAR